BEGIN:VCALENDAR
VERSION:2.0
PRODID:-//Mid-Minnesota Rural Development Commission - ECPv6.15.20//NONSGML v1.0//EN
CALSCALE:GREGORIAN
METHOD:PUBLISH
X-ORIGINAL-URL:https://mmrdc.org
X-WR-CALDESC:Events for Mid-Minnesota Rural Development Commission
REFRESH-INTERVAL;VALUE=DURATION:PT1H
X-Robots-Tag:noindex
X-PUBLISHED-TTL:PT1H
BEGIN:VTIMEZONE
TZID:America/Chicago
BEGIN:DAYLIGHT
TZOFFSETFROM:-0600
TZOFFSETTO:-0500
TZNAME:CDT
DTSTART:20210314T080000
END:DAYLIGHT
BEGIN:STANDARD
TZOFFSETFROM:-0500
TZOFFSETTO:-0600
TZNAME:CST
DTSTART:20211107T070000
END:STANDARD
BEGIN:DAYLIGHT
TZOFFSETFROM:-0600
TZOFFSETTO:-0500
TZNAME:CDT
DTSTART:20220313T080000
END:DAYLIGHT
BEGIN:STANDARD
TZOFFSETFROM:-0500
TZOFFSETTO:-0600
TZNAME:CST
DTSTART:20221106T070000
END:STANDARD
BEGIN:DAYLIGHT
TZOFFSETFROM:-0600
TZOFFSETTO:-0500
TZNAME:CDT
DTSTART:20230312T080000
END:DAYLIGHT
BEGIN:STANDARD
TZOFFSETFROM:-0500
TZOFFSETTO:-0600
TZNAME:CST
DTSTART:20231105T070000
END:STANDARD
BEGIN:DAYLIGHT
TZOFFSETFROM:-0600
TZOFFSETTO:-0500
TZNAME:CDT
DTSTART:20240310T080000
END:DAYLIGHT
BEGIN:STANDARD
TZOFFSETFROM:-0500
TZOFFSETTO:-0600
TZNAME:CST
DTSTART:20241103T070000
END:STANDARD
BEGIN:DAYLIGHT
TZOFFSETFROM:-0600
TZOFFSETTO:-0500
TZNAME:CDT
DTSTART:20250309T080000
END:DAYLIGHT
BEGIN:STANDARD
TZOFFSETFROM:-0500
TZOFFSETTO:-0600
TZNAME:CST
DTSTART:20251102T070000
END:STANDARD
BEGIN:DAYLIGHT
TZOFFSETFROM:-0600
TZOFFSETTO:-0500
TZNAME:CDT
DTSTART:20260308T080000
END:DAYLIGHT
BEGIN:STANDARD
TZOFFSETFROM:-0500
TZOFFSETTO:-0600
TZNAME:CST
DTSTART:20261101T070000
END:STANDARD
BEGIN:DAYLIGHT
TZOFFSETFROM:-0600
TZOFFSETTO:-0500
TZNAME:CDT
DTSTART:20270314T080000
END:DAYLIGHT
BEGIN:STANDARD
TZOFFSETFROM:-0500
TZOFFSETTO:-0600
TZNAME:CST
DTSTART:20271107T070000
END:STANDARD
END:VTIMEZONE
BEGIN:VEVENT
DTSTART;TZID=America/Chicago:20220906T120000
DTEND;TZID=America/Chicago:20220906T130000
DTSTAMP:20260420T125410
CREATED:20220714T154606Z
LAST-MODIFIED:20220714T154606Z
UID:1903-1662465600-1662469200@mmrdc.org
SUMMARY:SCORE Webinar Your Marketing Roadmap - Ask the Questions You Need Answered
DESCRIPTION:Join SCORE and small business expert and entrepreneur Ramon Ray for part 4 of the 4-part Marketing series. We’ll take you through the ultimate marketing essentials you will need for your business to be a success. \nWorkshop 4: Ask the Questions You Need Answered \nIn the final part of the “Your Marketing Roadmap” webinar series\, the floor is open to you! Ramon will be taking your questions live to help you apply these marketing strategies to your specific business. No question is too basic and no question is too hard. \nCome ready to ask your toughest questions as we learn together in this final webinar of the SCORE Marketing Road Map series. \n  \nMore info here: https://www.score.org/event/your-marketing-roadmap-ask-questions-you-need-answered
URL:https://mmrdc.org/event/score-webinar-your-marketing-roadmap-ask-the-questions-you-need-answered/
LOCATION:Online Event
CATEGORIES:3rd Party Event
END:VEVENT
BEGIN:VEVENT
DTSTART;TZID=America/Chicago:20220914T190000
DTEND;TZID=America/Chicago:20220914T210000
DTSTAMP:20260420T125410
CREATED:20211206T162451Z
LAST-MODIFIED:20220714T155551Z
UID:1757-1663182000-1663189200@mmrdc.org
SUMMARY:MMDC Full Commission Meeting
DESCRIPTION:
URL:https://mmrdc.org/event/mmdc-full-commission-meeting-3/
LOCATION:Renville County Government Services Building (Room 116)\, 105 5th St\, Olivia\, 56277\, United States
CATEGORIES:Meeting
ORGANIZER;CN="MMDC":MAILTO:mmrdc@mmrdc.org
END:VEVENT
BEGIN:VEVENT
DTSTART;TZID=America/Chicago:20221004T150000
DTEND;TZID=America/Chicago:20221004T170000
DTSTAMP:20260420T125410
CREATED:20221003T153038Z
LAST-MODIFIED:20221003T153038Z
UID:1918-1664895600-1664902800@mmrdc.org
SUMMARY:MMDC Executive Committee Meeting
DESCRIPTION:The MMDC Executive Committee will Convene at 3:00 p.m. on Tuesday\, October 4\, 2022\, at 1707 Technology Drive NE\, Willmar MN 56201 (MMDC’s principal location) to determine a course of action to recover a defaulted loan from an MMDC revolving loan fund. Any portion of the meeting during which borrower-specific information is discussed will be closed to the public to preserve confidentiality.
URL:https://mmrdc.org/event/mmdc-executive-committee-meeting/
LOCATION:MMDC principal location\, 1707 Technology Drive NE\, Willmar\, 56201\, United States
CATEGORIES:Meeting
ORGANIZER;CN="MMDC":MAILTO:mmrdc@mmrdc.org
END:VEVENT
BEGIN:VEVENT
DTSTART;TZID=America/Chicago:20221130T190000
DTEND;TZID=America/Chicago:20221130T210000
DTSTAMP:20260420T125410
CREATED:20211206T162552Z
LAST-MODIFIED:20211206T162552Z
UID:1759-1669834800-1669842000@mmrdc.org
SUMMARY:MMDC Full Commission Meeting
DESCRIPTION:
URL:https://mmrdc.org/event/mmdc-full-commission-meeting-4/
LOCATION:Location TBD
CATEGORIES:Meeting
ORGANIZER;CN="MMDC":MAILTO:mmrdc@mmrdc.org
END:VEVENT
BEGIN:VEVENT
DTSTART;TZID=America/Chicago:20230125T180000
DTEND;TZID=America/Chicago:20230125T200000
DTSTAMP:20260420T125410
CREATED:20221223T194954Z
LAST-MODIFIED:20221223T194954Z
UID:1945-1674669600-1674676800@mmrdc.org
SUMMARY:MMDC Full Commission Meeting
DESCRIPTION:
URL:https://mmrdc.org/event/mmdc-full-commission-meeting-5/
LOCATION:Cosmos Community Center\, 220 Milky Way Street\, Cosmos\, MN\, 56228\, United States
CATEGORIES:Meeting
ORGANIZER;CN="MMDC":MAILTO:mmrdc@mmrdc.org
END:VEVENT
BEGIN:VEVENT
DTSTART;TZID=America/Chicago:20230412T180000
DTEND;TZID=America/Chicago:20230412T200000
DTSTAMP:20260420T125410
CREATED:20230405T211148Z
LAST-MODIFIED:20230405T211148Z
UID:1959-1681322400-1681329600@mmrdc.org
SUMMARY:MMDC Full Commission Meeting
DESCRIPTION:
URL:https://mmrdc.org/event/mmdc-full-commission-meeting-8/
LOCATION:Winsted City Hall\, 201 1st Street North\, Winsted\, MN\, 55395\, United States
CATEGORIES:Meeting
ORGANIZER;CN="MMDC":MAILTO:mmrdc@mmrdc.org
END:VEVENT
BEGIN:VEVENT
DTSTART;TZID=America/Chicago:20230621T160000
DTEND;TZID=America/Chicago:20230621T183000
DTSTAMP:20260420T125410
CREATED:20230420T174434Z
LAST-MODIFIED:20230420T174434Z
UID:1972-1687363200-1687372200@mmrdc.org
SUMMARY:Mid-Minnesota Development Commission Annual Meeting
DESCRIPTION:The purpose of this public hearing is to officially adopt the Fiscal Year 2024 budget (July 1\, 2023\, through June 30\, 2024) and to consider any increase in the levy of MMDC’s ad valorem tax\, within limitations set by state statute (limited to 3% increase) and which would not be received in full or used until the Fiscal Year 2025 budget is effective. \nAdditionally\, the Mid-Minnesota Development Commission will convene from 4:00 to 5:00 p.m. This meeting will recess at 5:00 p.m. to accommodate the aforementioned public hearing and will reconvene after the conclusion of that hearing. This meeting will include the introduction of any new MMDC Commissioners\, regular commission business\, MMDC program updates\, and any consideration of applications to MMDC’s revolving loan program\, if those applications meet the threshold for review from MMDC’s full Commission.
URL:https://mmrdc.org/event/mid-minnesota-development-commission-annual-meeting/
LOCATION:Kandiyohi County Health and Human Services Multi Purpose Room\, 2200 23rd St NE\, Willmar\, MN\, 56201\, United States
CATEGORIES:Meeting
ORGANIZER;CN="MMDC":MAILTO:mmrdc@mmrdc.org
END:VEVENT
BEGIN:VEVENT
DTSTART;TZID=America/Chicago:20230621T160000
DTEND;TZID=America/Chicago:20230621T200000
DTSTAMP:20260420T125410
CREATED:20221223T195209Z
LAST-MODIFIED:20221223T195209Z
UID:1947-1687363200-1687377600@mmrdc.org
SUMMARY:MMDC Annual Meeting
DESCRIPTION:
URL:https://mmrdc.org/event/mmdc-annual-meeting/
LOCATION:MinnWest Technology Campus (Commons Conference Room)\, 1707 Technology Dr NE\, Willmar\, MN\, 56201\, United States
ORGANIZER;CN="MMDC":MAILTO:mmrdc@mmrdc.org
END:VEVENT
BEGIN:VEVENT
DTSTART;TZID=America/Chicago:20230913T180000
DTEND;TZID=America/Chicago:20230913T200000
DTSTAMP:20260420T125410
CREATED:20221223T195251Z
LAST-MODIFIED:20230825T172803Z
UID:1949-1694628000-1694635200@mmrdc.org
SUMMARY:MMDC Full Commission Meeting
DESCRIPTION:
URL:https://mmrdc.org/event/mmdc-full-commission-meeting-6/
LOCATION:Renville  City Hall/Community Center\, 221 Main Street North\, Renville\, MN\, 56284\, United States
ORGANIZER;CN="MMDC":MAILTO:mmrdc@mmrdc.org
END:VEVENT
BEGIN:VEVENT
DTSTART;TZID=America/Chicago:20231206T180000
DTEND;TZID=America/Chicago:20231206T200000
DTSTAMP:20260420T125410
CREATED:20221223T195331Z
LAST-MODIFIED:20221223T195331Z
UID:1950-1701885600-1701892800@mmrdc.org
SUMMARY:MMDC Full Commission Meeting
DESCRIPTION:
URL:https://mmrdc.org/event/mmdc-full-commission-meeting-7/
LOCATION:Location TBD
ORGANIZER;CN="MMDC":MAILTO:mmrdc@mmrdc.org
END:VEVENT
BEGIN:VEVENT
DTSTART;TZID=America/Chicago:20240410T180000
DTEND;TZID=America/Chicago:20240410T200000
DTSTAMP:20260420T125410
CREATED:20240401T211737Z
LAST-MODIFIED:20240401T211737Z
UID:2127-1712772000-1712779200@mmrdc.org
SUMMARY:MMDC Full Commission Meeting
DESCRIPTION:
URL:https://mmrdc.org/event/mmdc-full-commission-meeting-9/
LOCATION:Atwater Community Center\, 107 2nd St N Atwater\, Atwater\, MN\, 56209\, United States
CATEGORIES:Meeting
ORGANIZER;CN="MMDC":MAILTO:mmrdc@mmrdc.org
END:VEVENT
BEGIN:VEVENT
DTSTART;TZID=America/Chicago:20240612T140000
DTEND;TZID=America/Chicago:20240612T190000
DTSTAMP:20260420T125410
CREATED:20240401T212914Z
LAST-MODIFIED:20240402T210720Z
UID:2130-1718200800-1718218800@mmrdc.org
SUMMARY:MMDC Commission Meeting\, Annual Hearing
DESCRIPTION:
URL:https://mmrdc.org/event/mmdc-commission-meeting-annual-hearing/
LOCATION:Location TBD
CATEGORIES:Meeting
ORGANIZER;CN="MMDC":MAILTO:mmrdc@mmrdc.org
END:VEVENT
BEGIN:VEVENT
DTSTART;TZID=America/Chicago:20240918T180000
DTEND;TZID=America/Chicago:20240918T200000
DTSTAMP:20260420T125410
CREATED:20240401T211934Z
LAST-MODIFIED:20241220T163816Z
UID:2129-1726682400-1726689600@mmrdc.org
SUMMARY:MMDC Full Commission Meeting
DESCRIPTION:
URL:https://mmrdc.org/event/mmdc-full-commission-meeting-10/
LOCATION:Location TBD
CATEGORIES:Meeting
ORGANIZER;CN="MMDC":MAILTO:mmrdc@mmrdc.org
END:VEVENT
BEGIN:VEVENT
DTSTART;TZID=America/Chicago:20241204T180000
DTEND;TZID=America/Chicago:20241204T200000
DTSTAMP:20260420T125410
CREATED:20240402T210841Z
LAST-MODIFIED:20241220T163822Z
UID:2132-1733335200-1733342400@mmrdc.org
SUMMARY:MMDC Full Commission Meeting
DESCRIPTION:
URL:https://mmrdc.org/event/mmdc-full-commission-meeting-11/
LOCATION:Location TBD
CATEGORIES:Meeting
ORGANIZER;CN="MMDC":MAILTO:mmrdc@mmrdc.org
END:VEVENT
BEGIN:VEVENT
DTSTART;TZID=America/Chicago:20250205T180000
DTEND;TZID=America/Chicago:20250205T203000
DTSTAMP:20260420T125410
CREATED:20241220T163422Z
LAST-MODIFIED:20241220T163827Z
UID:2298-1738778400-1738787400@mmrdc.org
SUMMARY:MMDC Full Commission Meeting
DESCRIPTION:
URL:https://mmrdc.org/event/mmdc-full-commission-meeting-12/
LOCATION:Location TBD
CATEGORIES:Meeting
ORGANIZER;CN="MMDC":MAILTO:mmrdc@mmrdc.org
END:VEVENT
BEGIN:VEVENT
DTSTART;TZID=America/Chicago:20250326T100000
DTEND;TZID=America/Chicago:20250326T103000
DTSTAMP:20260420T125410
CREATED:20250310T152840Z
LAST-MODIFIED:20250314T210830Z
UID:2318-1742983200-1742985000@mmrdc.org
SUMMARY:March 2025 Public ATIP Meeting - MMDC Region (Kandiyohi\, McLeod\, Meeker\, & Renville Co.)
DESCRIPTION:Megan DeSchepper\, MnDOT’s District 8 Planning Director\, will present the draft State Transportation Improvement Program (STIP). This meeting is an excellent opportunity to learn about upcoming projects and provide valuable feedback to MnDOT. \n\n	4.-March-ATP-handout-2026-to-2029-draft-ATIP.pdf	(304 downloads	)\n\n \n\n	5.-ATIP-Draft-Map-2026-2029.pdf	(231 downloads	)\n\n \nDate: March 26\, 2025 \nTime: 10:00 AM \nDuration: Approximately 45 minutes (we may finish early) \nLocation: Online \nAgenda: \n\nWelcome/Introductions (all)\nReview of the TAC’s purpose (Blake)\nUpdate on Regional Projects/ATIP (Megan DeSchepper)\nQuestions and Feedback\n\n\nJoin the meeting now \n\n\nMeeting ID: 269 633 034 246 \n\n\nPasscode: Ss6xJ7nk
URL:https://mmrdc.org/event/march-2025-public-atip-meeting-mmdc-region-kandiyohi-mcleod-meeker-renville-co/
LOCATION:Online Event
CATEGORIES:3rd Party Event
END:VEVENT
BEGIN:VEVENT
DTSTART;TZID=America/Chicago:20250423T180000
DTEND;TZID=America/Chicago:20250423T200000
DTSTAMP:20260420T125410
CREATED:20241220T163512Z
LAST-MODIFIED:20250313T212706Z
UID:2299-1745431200-1745438400@mmrdc.org
SUMMARY:MMDC Full Commission Meeting
DESCRIPTION:
URL:https://mmrdc.org/event/2025-mmdc-full-commission/
LOCATION:Kandiyohi Power Cooperative’s (KPC) Community Room\, 8605 47th St. NE\, Spicer\, MN\, 56288\, United States
CATEGORIES:Meeting
ORGANIZER;CN="MMDC":MAILTO:mmrdc@mmrdc.org
END:VEVENT
BEGIN:VEVENT
DTSTART;TZID=America/Chicago:20250618T180000
DTEND;TZID=America/Chicago:20250618T200000
DTSTAMP:20260420T125410
CREATED:20241220T163613Z
LAST-MODIFIED:20241220T163754Z
UID:2300-1750269600-1750276800@mmrdc.org
SUMMARY:MMDC Full Commission Annual Meeting
DESCRIPTION:
URL:https://mmrdc.org/event/mmdc-full-commission-annual-meeting-2/
LOCATION:Location TBD
CATEGORIES:Meeting
ORGANIZER;CN="MMDC":MAILTO:mmrdc@mmrdc.org
END:VEVENT
BEGIN:VEVENT
DTSTART;TZID=America/Chicago:20250917T180000
DTEND;TZID=America/Chicago:20250917T200000
DTSTAMP:20260420T125410
CREATED:20241220T163655Z
LAST-MODIFIED:20241220T163748Z
UID:2301-1758132000-1758139200@mmrdc.org
SUMMARY:MMDC Full Commission Meeting
DESCRIPTION:
URL:https://mmrdc.org/event/mmdc-full-commission-meeting-13/
LOCATION:Location TBD
CATEGORIES:Meeting
ORGANIZER;CN="MMDC":MAILTO:mmrdc@mmrdc.org
END:VEVENT
BEGIN:VEVENT
DTSTART;TZID=America/Chicago:20251203T180000
DTEND;TZID=America/Chicago:20251203T200000
DTSTAMP:20260420T125410
CREATED:20241220T163734Z
LAST-MODIFIED:20241220T163734Z
UID:2302-1764784800-1764792000@mmrdc.org
SUMMARY:MMDC Full Commission Meeting
DESCRIPTION:
URL:https://mmrdc.org/event/mmdc-full-commission-meeting-14/
LOCATION:Location TBD
CATEGORIES:Meeting
ORGANIZER;CN="MMDC":MAILTO:mmrdc@mmrdc.org
END:VEVENT
BEGIN:VEVENT
DTSTART;TZID=America/Chicago:20260128T173000
DTEND;TZID=America/Chicago:20260128T203000
DTSTAMP:20260420T125410
CREATED:20251204T225149Z
LAST-MODIFIED:20251204T225149Z
UID:2502-1769621400-1769632200@mmrdc.org
SUMMARY:MMDC Full Commission Meeting
DESCRIPTION:
URL:https://mmrdc.org/event/mmdc-full-commission-meeting-15/
LOCATION:Panther Field House\, 1621 16th St E\, Glencoe\, MN\, 55336\, United States
CATEGORIES:Meeting
ORGANIZER;CN="MMDC":MAILTO:mmrdc@mmrdc.org
END:VEVENT
BEGIN:VEVENT
DTSTART;TZID=America/Chicago:20260408T173000
DTEND;TZID=America/Chicago:20260408T203000
DTSTAMP:20260420T125410
CREATED:20251204T225251Z
LAST-MODIFIED:20251204T225251Z
UID:2504-1775669400-1775680200@mmrdc.org
SUMMARY:MMDC Full Commission Meeting
DESCRIPTION:
URL:https://mmrdc.org/event/mmdc-full-commission-meeting-16/
LOCATION:Location TBD
CATEGORIES:Meeting
ORGANIZER;CN="MMDC":MAILTO:mmrdc@mmrdc.org
END:VEVENT
BEGIN:VEVENT
DTSTART;TZID=America/Chicago:20260617T173000
DTEND;TZID=America/Chicago:20260617T203000
DTSTAMP:20260420T125410
CREATED:20251204T225323Z
LAST-MODIFIED:20251204T225323Z
UID:2505-1781717400-1781728200@mmrdc.org
SUMMARY:MMDC Full Commission Meeting
DESCRIPTION:
URL:https://mmrdc.org/event/mmdc-full-commission-meeting-17/
LOCATION:Location TBD
CATEGORIES:Meeting
ORGANIZER;CN="MMDC":MAILTO:mmrdc@mmrdc.org
END:VEVENT
BEGIN:VEVENT
DTSTART;TZID=America/Chicago:20260916T173000
DTEND;TZID=America/Chicago:20260916T203000
DTSTAMP:20260420T125410
CREATED:20251204T225351Z
LAST-MODIFIED:20251204T225351Z
UID:2506-1789579800-1789590600@mmrdc.org
SUMMARY:MMDC Full Commission Meeting
DESCRIPTION:
URL:https://mmrdc.org/event/mmdc-full-commission-meeting-18/
LOCATION:Location TBD
CATEGORIES:Meeting
ORGANIZER;CN="MMDC":MAILTO:mmrdc@mmrdc.org
END:VEVENT
BEGIN:VEVENT
DTSTART;TZID=America/Chicago:20261209T173000
DTEND;TZID=America/Chicago:20261209T203000
DTSTAMP:20260420T125410
CREATED:20251204T225425Z
LAST-MODIFIED:20251204T225425Z
UID:2507-1796837400-1796848200@mmrdc.org
SUMMARY:MMDC Full Commission Meeting
DESCRIPTION:
URL:https://mmrdc.org/event/mmdc-full-commission-meeting-19/
LOCATION:Location TBD
CATEGORIES:Meeting
ORGANIZER;CN="MMDC":MAILTO:mmrdc@mmrdc.org
END:VEVENT
END:VCALENDAR